BEGIN:VCALENDAR
VERSION:2.0
PRODID:-//Teatro de Títeres del Retiro - ECPv6.15.20//NONSGML v1.0//EN
CALSCALE:GREGORIAN
METHOD:PUBLISH
X-WR-CALNAME:Teatro de Títeres del Retiro
X-ORIGINAL-URL:https://teatrotiteresretiro.es
X-WR-CALDESC:Eventos para Teatro de Títeres del Retiro
REFRESH-INTERVAL;VALUE=DURATION:PT1H
X-Robots-Tag:noindex
X-PUBLISHED-TTL:PT1H
BEGIN:VTIMEZONE
TZID:Europe/Madrid
BEGIN:DAYLIGHT
TZOFFSETFROM:+0100
TZOFFSETTO:+0200
TZNAME:CEST
DTSTART:20230326T010000
END:DAYLIGHT
BEGIN:STANDARD
TZOFFSETFROM:+0200
TZOFFSETTO:+0100
TZNAME:CET
DTSTART:20231029T010000
END:STANDARD
BEGIN:DAYLIGHT
TZOFFSETFROM:+0100
TZOFFSETTO:+0200
TZNAME:CEST
DTSTART:20240331T010000
END:DAYLIGHT
BEGIN:STANDARD
TZOFFSETFROM:+0200
TZOFFSETTO:+0100
TZNAME:CET
DTSTART:20241027T010000
END:STANDARD
BEGIN:DAYLIGHT
TZOFFSETFROM:+0100
TZOFFSETTO:+0200
TZNAME:CEST
DTSTART:20250330T010000
END:DAYLIGHT
BEGIN:STANDARD
TZOFFSETFROM:+0200
TZOFFSETTO:+0100
TZNAME:CET
DTSTART:20251026T010000
END:STANDARD
END:VTIMEZONE
BEGIN:VEVENT
DTSTART;TZID=Europe/Madrid:20240901T190000
DTEND;TZID=Europe/Madrid:20240901T200000
DTSTAMP:20260420T192443
CREATED:20240621T085246Z
LAST-MODIFIED:20251027T085538Z
UID:10004862-1725217200-1725220800@teatrotiteresretiro.es
SUMMARY:Life is good
DESCRIPTION:Un tragicómico espectáculo de teatro de calle. \n«La vida es una tragedia de cerca\, pero una comedia de lejos» – Charlie Chaplin \nFilippo y Tonny\, un artista callejero y un candidato al suicidio\, se conocen por casualidad y nada volverá a ser lo mismo… Una tragedia cómica sobre la amistad. Contada en un lenguaje teatral universal e internacional\, con música en directo\, payasadas\, comedia y poesía. \n«Life is good» es una colaboración italo-danesa y también un encuentro personal entre el cómico italiano Claudio Levati y Niels Peter Kløft\, de Rakkerpak\, que han trabajado con tradiciones teatrales populares en un lenguaje teatral físico universal que puede entenderse más allá de edades y fronteras nacionales. Desde que se conocieron\, los dos cómicos han jugado a desafiarse mutuamente en relación con las grandes y pequeñas cuestiones de la vida. Y cuando el director Niels Grønne vio de repente una actuación en este juego\, ¡se convirtió en una colaboración teatral internacional única!
URL:https://teatrotiteresretiro.es/evento/life-is-good-2/2024-09-01/1/
LOCATION:Teatro de Títeres de El Retiro\, Avda de Méjico\, S/N\, Madrid\, Madrid\, 28009\, España
CATEGORIES:FIT Madriz,Infantil
ATTACH;FMTTYPE=image/jpeg:https://teatrotiteresretiro.es/wp-content/uploads/2024/06/01-sep.-11-Comunicacion-JPG-Life-is-good.jpg
GEO:40.418745;-3.686639
X-APPLE-STRUCTURED-LOCATION;VALUE=URI;X-ADDRESS=Teatro de Títeres de El Retiro Avda de Méjico S/N Madrid Madrid 28009 España;X-APPLE-RADIUS=500;X-TITLE=Avda de Méjico\, S/N:geo:-3.686639,40.418745
END:VEVENT
BEGIN:VEVENT
DTSTART;TZID=Europe/Madrid:20240901T210000
DTEND;TZID=Europe/Madrid:20240901T220000
DTSTAMP:20260420T192443
CREATED:20240621T085246Z
LAST-MODIFIED:20251027T085538Z
UID:10004863-1725224400-1725228000@teatrotiteresretiro.es
SUMMARY:Life is good
DESCRIPTION:Un tragicómico espectáculo de teatro de calle. \n«La vida es una tragedia de cerca\, pero una comedia de lejos» – Charlie Chaplin \nFilippo y Tonny\, un artista callejero y un candidato al suicidio\, se conocen por casualidad y nada volverá a ser lo mismo… Una tragedia cómica sobre la amistad. Contada en un lenguaje teatral universal e internacional\, con música en directo\, payasadas\, comedia y poesía. \n«Life is good» es una colaboración italo-danesa y también un encuentro personal entre el cómico italiano Claudio Levati y Niels Peter Kløft\, de Rakkerpak\, que han trabajado con tradiciones teatrales populares en un lenguaje teatral físico universal que puede entenderse más allá de edades y fronteras nacionales. Desde que se conocieron\, los dos cómicos han jugado a desafiarse mutuamente en relación con las grandes y pequeñas cuestiones de la vida. Y cuando el director Niels Grønne vio de repente una actuación en este juego\, ¡se convirtió en una colaboración teatral internacional única!
URL:https://teatrotiteresretiro.es/evento/life-is-good-2/2024-09-01/2/
LOCATION:Teatro de Títeres de El Retiro\, Avda de Méjico\, S/N\, Madrid\, Madrid\, 28009\, España
CATEGORIES:FIT Madriz,Infantil
ATTACH;FMTTYPE=image/jpeg:https://teatrotiteresretiro.es/wp-content/uploads/2024/06/01-sep.-11-Comunicacion-JPG-Life-is-good.jpg
GEO:40.418745;-3.686639
X-APPLE-STRUCTURED-LOCATION;VALUE=URI;X-ADDRESS=Teatro de Títeres de El Retiro Avda de Méjico S/N Madrid Madrid 28009 España;X-APPLE-RADIUS=500;X-TITLE=Avda de Méjico\, S/N:geo:-3.686639,40.418745
END:VEVENT
END:VCALENDAR