BEGIN:VCALENDAR
VERSION:2.0
PRODID:-//Teatro de Títeres del Retiro - ECPv6.15.20//NONSGML v1.0//EN
CALSCALE:GREGORIAN
METHOD:PUBLISH
X-ORIGINAL-URL:https://teatrotiteresretiro.es
X-WR-CALDESC:Eventos para Teatro de Títeres del Retiro
REFRESH-INTERVAL;VALUE=DURATION:PT1H
X-Robots-Tag:noindex
X-PUBLISHED-TTL:PT1H
BEGIN:VTIMEZONE
TZID:Europe/Madrid
BEGIN:DAYLIGHT
TZOFFSETFROM:+0100
TZOFFSETTO:+0200
TZNAME:CEST
DTSTART:20220327T010000
END:DAYLIGHT
BEGIN:STANDARD
TZOFFSETFROM:+0200
TZOFFSETTO:+0100
TZNAME:CET
DTSTART:20221030T010000
END:STANDARD
BEGIN:DAYLIGHT
TZOFFSETFROM:+0100
TZOFFSETTO:+0200
TZNAME:CEST
DTSTART:20230326T010000
END:DAYLIGHT
BEGIN:STANDARD
TZOFFSETFROM:+0200
TZOFFSETTO:+0100
TZNAME:CET
DTSTART:20231029T010000
END:STANDARD
BEGIN:DAYLIGHT
TZOFFSETFROM:+0100
TZOFFSETTO:+0200
TZNAME:CEST
DTSTART:20240331T010000
END:DAYLIGHT
BEGIN:STANDARD
TZOFFSETFROM:+0200
TZOFFSETTO:+0100
TZNAME:CET
DTSTART:20241027T010000
END:STANDARD
END:VTIMEZONE
BEGIN:VEVENT
DTSTART;TZID=Europe/Madrid:20230823T100000
DTEND;TZID=Europe/Madrid:20230823T130000
DTSTAMP:20260425T212506
CREATED:20230822T093243Z
LAST-MODIFIED:20230822T093243Z
UID:10004677-1692784800-1692795600@teatrotiteresretiro.es
SUMMARY:Taller: L’ Opera antica di Pulcinella
DESCRIPTION:Gaspare Nasuto comenzó su carrera en 1989 como titiritero y escultor. Hoy en día está considerado como uno de los grandes maestros de la tradición napolitana de títeres\, verdadero punto de referencia para todo aquel que quiera acercarse a los secretos de Polichinela y de la «Guarattelle» napolitana. \nUna de las características especiales es la voz de Pulcinella\, que se obtiene gracias a la «Pivetta»\, instrumento que el titiritero mantiene presionado al paladar durante las actuaciones. A ello se suma una técnica única y sorprendente en el movimiento de los títeres y un potencial en el actuar  que hacen de los espectáculos teatrales algo muy moderno. \nCon este taller ofrecemos un viaje al mundo de los títeres de guante\, a través de la experiencia de Gaspare Nasuto. \nAnalizaremos cómo ir de la idea a la creación de un personaje y los aspectos psicológicos del teatro de marionetas. Nos introduciremos en la construcción y las rutinas del títere de guante napolitano\, típico del trabajo de Nasuto. Cómo se sitúa el cuerpo en el espacio escénico\, los distintos movimientos y los gags. Y por último\, dedicaremos una jornada a la voz de Pulcinella y de los personajes\, la dirección\, y la relación con el público.
URL:https://teatrotiteresretiro.es/evento/taller-l-opera-antica-di-pulcinella-2/
LOCATION:Biblioteca Municipal Eugenio Trías
CATEGORIES:FIT Madriz,Taller
ATTACH;FMTTYPE=image/jpeg:https://teatrotiteresretiro.es/wp-content/uploads/2023/06/23-ago-taller-11-Comunicacion-JPG-Gaspare-Taller.jpg
END:VEVENT
BEGIN:VEVENT
DTSTART;TZID=Europe/Madrid:20230824T100000
DTEND;TZID=Europe/Madrid:20230824T130000
DTSTAMP:20260425T212506
CREATED:20230822T095015Z
LAST-MODIFIED:20230822T095015Z
UID:10004678-1692871200-1692882000@teatrotiteresretiro.es
SUMMARY:Taller: L’ Opera antica di Pulcinella
DESCRIPTION:Gaspare Nasuto comenzó su carrera en 1989 como titiritero y escultor. Hoy en día está considerado como uno de los grandes maestros de la tradición napolitana de títeres\, verdadero punto de referencia para todo aquel que quiera acercarse a los secretos de Polichinela y de la «Guarattelle» napolitana. \nUna de las características especiales es la voz de Pulcinella\, que se obtiene gracias a la «Pivetta»\, instrumento que el titiritero mantiene presionado al paladar durante las actuaciones. A ello se suma una técnica única y sorprendente en el movimiento de los títeres y un potencial en el actuar  que hacen de los espectáculos teatrales algo muy moderno. \nCon este taller ofrecemos un viaje al mundo de los títeres de guante\, a través de la experiencia de Gaspare Nasuto. \nAnalizaremos cómo ir de la idea a la creación de un personaje y los aspectos psicológicos del teatro de marionetas. Nos introduciremos en la construcción y las rutinas del títere de guante napolitano\, típico del trabajo de Nasuto. Cómo se sitúa el cuerpo en el espacio escénico\, los distintos movimientos y los gags. Y por último\, dedicaremos una jornada a la voz de Pulcinella y de los personajes\, la dirección\, y la relación con el público.
URL:https://teatrotiteresretiro.es/evento/taller-l-opera-antica-di-pulcinella-3/
LOCATION:Biblioteca Municipal Eugenio Trías
CATEGORIES:FIT Madriz,Taller
ATTACH;FMTTYPE=image/jpeg:https://teatrotiteresretiro.es/wp-content/uploads/2023/06/23-ago-taller-11-Comunicacion-JPG-Gaspare-Taller.jpg
END:VEVENT
BEGIN:VEVENT
DTSTART;TZID=Europe/Madrid:20230825T100000
DTEND;TZID=Europe/Madrid:20230825T130000
DTSTAMP:20260425T212506
CREATED:20230627T110248Z
LAST-MODIFIED:20251027T085502Z
UID:10004679-1692957600-1692968400@teatrotiteresretiro.es
SUMMARY:Taller: L’ Opera antica di Pulcinella
DESCRIPTION:Gaspare Nasuto comenzó su carrera en 1989 como titiritero y escultor. Hoy en día está considerado como uno de los grandes maestros de la tradición napolitana de títeres\, verdadero punto de referencia para todo aquel que quiera acercarse a los secretos de Polichinela y de la «Guarattelle» napolitana. \nUna de las características especiales es la voz de Pulcinella\, que se obtiene gracias a la «Pivetta»\, instrumento que el titiritero mantiene presionado al paladar durante las actuaciones. A ello se suma una técnica única y sorprendente en el movimiento de los títeres y un potencial en el actuar  que hacen de los espectáculos teatrales algo muy moderno. \nCon este taller ofrecemos un viaje al mundo de los títeres de guante\, a través de la experiencia de Gaspare Nasuto. \nAnalizaremos cómo ir de la idea a la creación de un personaje y los aspectos psicológicos del teatro de marionetas. Nos introduciremos en la construcción y las rutinas del títere de guante napolitano\, típico del trabajo de Nasuto. Cómo se sitúa el cuerpo en el espacio escénico\, los distintos movimientos y los gags. Y por último\, dedicaremos una jornada a la voz de Pulcinella y de los personajes\, la dirección\, y la relación con el público.
URL:https://teatrotiteresretiro.es/evento/taller-l-opera-antica-di-pulcinella/2023-08-25/
LOCATION:Biblioteca Municipal Eugenio Trías
CATEGORIES:FIT Madriz,Taller
ATTACH;FMTTYPE=image/jpeg:https://teatrotiteresretiro.es/wp-content/uploads/2023/06/23-ago-taller-11-Comunicacion-JPG-Gaspare-Taller.jpg
END:VEVENT
BEGIN:VEVENT
DTSTART;TZID=Europe/Madrid:20230828T100000
DTEND;TZID=Europe/Madrid:20230828T140000
DTSTAMP:20260425T212506
CREATED:20230822T092127Z
LAST-MODIFIED:20230825T101245Z
UID:10004685-1693216800-1693231200@teatrotiteresretiro.es
SUMMARY:Taller: De los cuentos y los títeres. ¿Con qué objeto?
DESCRIPTION:José Antonio Parreño\, Rodorín\, es uno de los curiosos genios difíciles de clasificar que recorren nuestros escenarios. Su trabajo está a caballo entre la narración oral\, el teatro de títeres y el teatro de objetos. Con elementos muy sencillos\, consigue llevar a escena poemas\, retahílas e historias que consiguen atrapar al público de forma increíble. Trabajó como profesor de educación primaria en colegios y granjas-escuela y realiza numerosísimas sesiones de animación a la lectura\, lo que le brinda no sólo el aspecto artístico\, sino también los conocimientos necesarios para ofrecer su trabajo en espacios educativos. \nA lo largo de este taller\, que se impartirá en la Biblioteca Pública Municipal Eugenio Trías (Parque de El Retiro. Paseo de Fernán Núñez\, 24) durante cinco días\, nos introduciremos en el trabajo creativo de Rodorín. \nNos hablará de los títeres\, haciendo una pequeña clasificación y ofreciendo algunas consideraciones sobre los personajes existentes\, los textos\, los autores… \nNos introducirá en la construcción de los personajes\, en la búsqueda de materiales\, el ensayo de las formas y el hallazgo de la mecánica adecuada para conseguir la configuración de la imagen deseada. Pero no es un taller de construcción. Nos enseñará también cómo utilizar los personajes\, cómo se juega con los títeres\, cómo hacer voces\, los elementos escenográficos necesarios… Y nos introducirá en el teatro de objetos\, analizando los tipos de objetos: naturales\, artificiales\, objetos encontrados…; las narraciones dramatizadas con distintos objetos… \nEn definitiva\, es un taller abierto en el que a través de los conocimientos que nos brinda José Antonio Parreño\, podremos crear nuestras propias historias. \n  \n“… un almirez que tritura puede ser el lobo en el cuento de Los tres cerditos que son\, a su vez\, un ajo\, una cebolla y una piedra…” \nMariano García
URL:https://teatrotiteresretiro.es/evento/taller-de-los-cuentos-y-los-titeres-con-que-objeto-2/
LOCATION:Biblioteca Municipal Eugenio Trías
CATEGORIES:FIT Madriz,Taller
ATTACH;FMTTYPE=image/jpeg:https://teatrotiteresretiro.es/wp-content/uploads/2023/06/28-ago.-taller-11-Comunicacion-JPG-Taller-Rodorin.jpg
END:VEVENT
BEGIN:VEVENT
DTSTART;TZID=Europe/Madrid:20230829T100000
DTEND;TZID=Europe/Madrid:20230829T140000
DTSTAMP:20260425T212506
CREATED:20230822T093719Z
LAST-MODIFIED:20230822T093719Z
UID:10004686-1693303200-1693317600@teatrotiteresretiro.es
SUMMARY:Taller: De los cuentos y los títeres. ¿Con qué objeto?
DESCRIPTION:José Antonio Parreño\, Rodorín\, es uno de los curiosos genios difíciles de clasificar que recorren nuestros escenarios. Su trabajo está a caballo entre la narración oral\, el teatro de títeres y el teatro de objetos. Con elementos muy sencillos\, consigue llevar a escena poemas\, retahílas e historias que consiguen atrapar al público de forma increíble. Trabajó como profesor de educación primaria en colegios y granjas-escuela y realiza numerosísimas sesiones de animación a la lectura\, lo que le brinda no sólo el aspecto artístico\, sino también los conocimientos necesarios para ofrecer su trabajo en espacios educativos. \nA lo largo de este taller\, que se impartirá en la Biblioteca Pública Municipal Eugenio Trías (Parque de El Retiro. Paseo de Fernán Núñez\, 24) durante cinco días\, nos introduciremos en el trabajo creativo de Rodorín. \nNos hablará de los títeres\, haciendo una pequeña clasificación y ofreciendo algunas consideraciones sobre los personajes existentes\, los textos\, los autores… \nNos introducirá en la construcción de los personajes\, en la búsqueda de materiales\, el ensayo de las formas y el hallazgo de la mecánica adecuada para conseguir la configuración de la imagen deseada. Pero no es un taller de construcción. Nos enseñará también cómo utilizar los personajes\, cómo se juega con los títeres\, cómo hacer voces\, los elementos escenográficos necesarios… Y nos introducirá en el teatro de objetos\, analizando los tipos de objetos: naturales\, artificiales\, objetos encontrados…; las narraciones dramatizadas con distintos objetos… \nEn definitiva\, es un taller abierto en el que a través de los conocimientos que nos brinda José Antonio Parreño\, podremos crear nuestras propias historias. \n  \n“… un almirez que tritura puede ser el lobo en el cuento de Los tres cerditos que son\, a su vez\, un ajo\, una cebolla y una piedra…” \nMariano García
URL:https://teatrotiteresretiro.es/evento/taller-de-los-cuentos-y-los-titeres-con-que-objeto-3/
LOCATION:Biblioteca Municipal Eugenio Trías
CATEGORIES:FIT Madriz,Taller
ATTACH;FMTTYPE=image/jpeg:https://teatrotiteresretiro.es/wp-content/uploads/2023/06/28-ago.-taller-11-Comunicacion-JPG-Taller-Rodorin.jpg
END:VEVENT
BEGIN:VEVENT
DTSTART;TZID=Europe/Madrid:20230830T100000
DTEND;TZID=Europe/Madrid:20230830T140000
DTSTAMP:20260425T212506
CREATED:20230822T094903Z
LAST-MODIFIED:20230822T094903Z
UID:10004687-1693389600-1693404000@teatrotiteresretiro.es
SUMMARY:Taller: De los cuentos y los títeres. ¿Con qué objeto?
DESCRIPTION:José Antonio Parreño\, Rodorín\, es uno de los curiosos genios difíciles de clasificar que recorren nuestros escenarios. Su trabajo está a caballo entre la narración oral\, el teatro de títeres y el teatro de objetos. Con elementos muy sencillos\, consigue llevar a escena poemas\, retahílas e historias que consiguen atrapar al público de forma increíble. Trabajó como profesor de educación primaria en colegios y granjas-escuela y realiza numerosísimas sesiones de animación a la lectura\, lo que le brinda no sólo el aspecto artístico\, sino también los conocimientos necesarios para ofrecer su trabajo en espacios educativos. \nA lo largo de este taller\, que se impartirá en la Biblioteca Pública Municipal Eugenio Trías (Parque de El Retiro. Paseo de Fernán Núñez\, 24) durante cinco días\, nos introduciremos en el trabajo creativo de Rodorín. \nNos hablará de los títeres\, haciendo una pequeña clasificación y ofreciendo algunas consideraciones sobre los personajes existentes\, los textos\, los autores… \nNos introducirá en la construcción de los personajes\, en la búsqueda de materiales\, el ensayo de las formas y el hallazgo de la mecánica adecuada para conseguir la configuración de la imagen deseada. Pero no es un taller de construcción. Nos enseñará también cómo utilizar los personajes\, cómo se juega con los títeres\, cómo hacer voces\, los elementos escenográficos necesarios… Y nos introducirá en el teatro de objetos\, analizando los tipos de objetos: naturales\, artificiales\, objetos encontrados…; las narraciones dramatizadas con distintos objetos… \nEn definitiva\, es un taller abierto en el que a través de los conocimientos que nos brinda José Antonio Parreño\, podremos crear nuestras propias historias. \n  \n“… un almirez que tritura puede ser el lobo en el cuento de Los tres cerditos que son\, a su vez\, un ajo\, una cebolla y una piedra…” \nMariano García
URL:https://teatrotiteresretiro.es/evento/taller-de-los-cuentos-y-los-titeres-con-que-objeto-4/
LOCATION:Biblioteca Municipal Eugenio Trías
CATEGORIES:FIT Madriz,Taller
ATTACH;FMTTYPE=image/jpeg:https://teatrotiteresretiro.es/wp-content/uploads/2023/06/28-ago.-taller-11-Comunicacion-JPG-Taller-Rodorin.jpg
END:VEVENT
BEGIN:VEVENT
DTSTART;TZID=Europe/Madrid:20230831T100000
DTEND;TZID=Europe/Madrid:20230831T140000
DTSTAMP:20260425T212506
CREATED:20230628T122639Z
LAST-MODIFIED:20251027T085504Z
UID:10004688-1693476000-1693490400@teatrotiteresretiro.es
SUMMARY:Taller: De los cuentos y los títeres. ¿Con qué objeto?
DESCRIPTION:José Antonio Parreño\, Rodorín\, es uno de los curiosos genios difíciles de clasificar que recorren nuestros escenarios. Su trabajo está a caballo entre la narración oral\, el teatro de títeres y el teatro de objetos. Con elementos muy sencillos\, consigue llevar a escena poemas\, retahílas e historias que consiguen atrapar al público de forma increíble. Trabajó como profesor de educación primaria en colegios y granjas-escuela y realiza numerosísimas sesiones de animación a la lectura\, lo que le brinda no sólo el aspecto artístico\, sino también los conocimientos necesarios para ofrecer su trabajo en espacios educativos. \nA lo largo de este taller\, que se impartirá en la Biblioteca Pública Municipal Eugenio Trías (Parque de El Retiro. Paseo de Fernán Núñez\, 24) durante cinco días\, nos introduciremos en el trabajo creativo de Rodorín. \nNos hablará de los títeres\, haciendo una pequeña clasificación y ofreciendo algunas consideraciones sobre los personajes existentes\, los textos\, los autores… \nNos introducirá en la construcción de los personajes\, en la búsqueda de materiales\, el ensayo de las formas y el hallazgo de la mecánica adecuada para conseguir la configuración de la imagen deseada. Pero no es un taller de construcción. Nos enseñará también cómo utilizar los personajes\, cómo se juega con los títeres\, cómo hacer voces\, los elementos escenográficos necesarios… Y nos introducirá en el teatro de objetos\, analizando los tipos de objetos: naturales\, artificiales\, objetos encontrados…; las narraciones dramatizadas con distintos objetos… \nEn definitiva\, es un taller abierto en el que a través de los conocimientos que nos brinda José Antonio Parreño\, podremos crear nuestras propias historias. \n  \n“… un almirez que tritura puede ser el lobo en el cuento de Los tres cerditos que son\, a su vez\, un ajo\, una cebolla y una piedra…” \nMariano García
URL:https://teatrotiteresretiro.es/evento/taller-de-los-cuentos-y-los-titeres-con-que-objeto/2023-08-31/
LOCATION:Biblioteca Municipal Eugenio Trías
CATEGORIES:FIT Madriz,Taller
ATTACH;FMTTYPE=image/jpeg:https://teatrotiteresretiro.es/wp-content/uploads/2023/06/28-ago.-taller-11-Comunicacion-JPG-Taller-Rodorin.jpg
END:VEVENT
END:VCALENDAR