BEGIN:VCALENDAR
VERSION:2.0
PRODID:-//Teatro de Títeres del Retiro - ECPv6.15.20//NONSGML v1.0//EN
CALSCALE:GREGORIAN
METHOD:PUBLISH
X-ORIGINAL-URL:https://teatrotiteresretiro.es
X-WR-CALDESC:Eventos para Teatro de Títeres del Retiro
REFRESH-INTERVAL;VALUE=DURATION:PT1H
X-Robots-Tag:noindex
X-PUBLISHED-TTL:PT1H
BEGIN:VTIMEZONE
TZID:Europe/Madrid
BEGIN:DAYLIGHT
TZOFFSETFROM:+0100
TZOFFSETTO:+0200
TZNAME:CEST
DTSTART:20240331T010000
END:DAYLIGHT
BEGIN:STANDARD
TZOFFSETFROM:+0200
TZOFFSETTO:+0100
TZNAME:CET
DTSTART:20241027T010000
END:STANDARD
BEGIN:DAYLIGHT
TZOFFSETFROM:+0100
TZOFFSETTO:+0200
TZNAME:CEST
DTSTART:20250330T010000
END:DAYLIGHT
BEGIN:STANDARD
TZOFFSETFROM:+0200
TZOFFSETTO:+0100
TZNAME:CET
DTSTART:20251026T010000
END:STANDARD
BEGIN:DAYLIGHT
TZOFFSETFROM:+0100
TZOFFSETTO:+0200
TZNAME:CEST
DTSTART:20260329T010000
END:DAYLIGHT
BEGIN:STANDARD
TZOFFSETFROM:+0200
TZOFFSETTO:+0100
TZNAME:CET
DTSTART:20261025T010000
END:STANDARD
END:VTIMEZONE
BEGIN:VEVENT
DTSTART;TZID=Europe/Madrid:20250103T170000
DTEND;TZID=Europe/Madrid:20250103T180000
DTSTAMP:20260420T184633
CREATED:20241104T113823Z
LAST-MODIFIED:20251027T085543Z
UID:10005035-1735923600-1735927200@teatrotiteresretiro.es
SUMMARY:Taller de sombras con Títeres sin cabeza
DESCRIPTION:Las niñas  y niños  gozan de mucha imaginación y creatividad. Durante la educación primaria\, desarrollarán capacidades para dar forma a todo tipo de textos literarios. Poemas\, obras de teatro\, canciones… ¡y cuentos! y nosotros proponemos una actividad diferente para poder articular historias\, crearlas con marionetas de sombras. \nAnalizando algunos de los cuentos más conocidos y partiendo de la base de componer el principio\, el nudo y el desenlace  tendremos la posibilidad de canalizar toda su magia y plasmarla en la pantalla con las siluetas para poder contar una historia. \nOfrecemos una oportunidad para que exploren la magia de la luz\, los colores traslucidos y las sombras sin olvidar el factor sorpresa con la que todas las niñas y niños gracias a su inventiva e imaginación infantil siempre deslumbran.
URL:https://teatrotiteresretiro.es/evento/taller-de-sombras-con-titeres-sin-cabeza-2/2025-01-03/1/
LOCATION:Biblioteca Municipal Eugenio Trías
CATEGORIES:Infantil,Navidad en el Teatro de Títeres de El Retiro,Taller
ATTACH;FMTTYPE=image/jpeg:https://teatrotiteresretiro.es/wp-content/uploads/2024/11/03-ene.-tarde-11-Comunicacion-JPG-Taller-Titere-sin-cabeza.jpg
END:VEVENT
BEGIN:VEVENT
DTSTART;TZID=Europe/Madrid:20250103T183000
DTEND;TZID=Europe/Madrid:20250103T193000
DTSTAMP:20260420T184633
CREATED:20241104T113823Z
LAST-MODIFIED:20251027T085543Z
UID:10005036-1735929000-1735932600@teatrotiteresretiro.es
SUMMARY:Taller de sombras con Títeres sin cabeza
DESCRIPTION:Las niñas  y niños  gozan de mucha imaginación y creatividad. Durante la educación primaria\, desarrollarán capacidades para dar forma a todo tipo de textos literarios. Poemas\, obras de teatro\, canciones… ¡y cuentos! y nosotros proponemos una actividad diferente para poder articular historias\, crearlas con marionetas de sombras. \nAnalizando algunos de los cuentos más conocidos y partiendo de la base de componer el principio\, el nudo y el desenlace  tendremos la posibilidad de canalizar toda su magia y plasmarla en la pantalla con las siluetas para poder contar una historia. \nOfrecemos una oportunidad para que exploren la magia de la luz\, los colores traslucidos y las sombras sin olvidar el factor sorpresa con la que todas las niñas y niños gracias a su inventiva e imaginación infantil siempre deslumbran.
URL:https://teatrotiteresretiro.es/evento/taller-de-sombras-con-titeres-sin-cabeza-2/2025-01-03/2/
LOCATION:Biblioteca Municipal Eugenio Trías
CATEGORIES:Infantil,Navidad en el Teatro de Títeres de El Retiro,Taller
ATTACH;FMTTYPE=image/jpeg:https://teatrotiteresretiro.es/wp-content/uploads/2024/11/03-ene.-tarde-11-Comunicacion-JPG-Taller-Titere-sin-cabeza.jpg
END:VEVENT
END:VCALENDAR